



BEGIN:VCALENDAR
VERSION:2.0
PRODID:-//Lake Tahoe Wildlife Care, Inc. - ECPv6.15.14//NONSGML v1.0//EN
CALSCALE:GREGORIAN
METHOD:PUBLISH
X-WR-CALNAME:Lake Tahoe Wildlife Care, Inc.
X-ORIGINAL-URL:https://ltwc.org
X-WR-CALDESC:Events for Lake Tahoe Wildlife Care, Inc.
REFRESH-INTERVAL;VALUE=DURATION:PT1H
X-Robots-Tag:noindex
X-PUBLISHED-TTL:PT1H
BEGIN:VTIMEZONE
TZID:America/Los_Angeles
BEGIN:DAYLIGHT
TZOFFSETFROM:-0800
TZOFFSETTO:-0700
TZNAME:PDT
DTSTART:20220313T100000
END:DAYLIGHT
BEGIN:STANDARD
TZOFFSETFROM:-0700
TZOFFSETTO:-0800
TZNAME:PST
DTSTART:20221106T090000
END:STANDARD
BEGIN:DAYLIGHT
TZOFFSETFROM:-0800
TZOFFSETTO:-0700
TZNAME:PDT
DTSTART:20230312T100000
END:DAYLIGHT
BEGIN:STANDARD
TZOFFSETFROM:-0700
TZOFFSETTO:-0800
TZNAME:PST
DTSTART:20231105T090000
END:STANDARD
BEGIN:DAYLIGHT
TZOFFSETFROM:-0800
TZOFFSETTO:-0700
TZNAME:PDT
DTSTART:20240310T100000
END:DAYLIGHT
BEGIN:STANDARD
TZOFFSETFROM:-0700
TZOFFSETTO:-0800
TZNAME:PST
DTSTART:20241103T090000
END:STANDARD
END:VTIMEZONE
BEGIN:VEVENT
DTSTART;TZID=America/Los_Angeles:20230721T160000
DTEND;TZID=America/Los_Angeles:20230721T170000
DTSTAMP:20260423T072300
CREATED:20230623T233050Z
LAST-MODIFIED:20230710T155430Z
UID:16424-1689955200-1689958800@ltwc.org
SUMMARY:Kids' Fun Friday - Fur\, Feathers & Scat
DESCRIPTION:Kid’s (1st – 5th grade) and their parent/ guardian are invited to join us for a fun\, age-appropriate presentation about fur\, feathers\, and scat! \n\nLearn about fur\, feathers\, and scat.\nHow to identify types of animals in Tahoe.\nLearn about different types of camouflage and how to identify animals and birds.\n\nDetails\n\nThis event is free\, and donations are appreciated (click here to make a donation; suggested $10 for an individual or $25 for a family).\nAttendance is limited to 15 kids – please register your child(ren) below to reserve a spot.\n\nThe accompanying parent/ guardian does not need to RSVP\, but does need to attend the entire event with their child(ren).\nRSVPs open two weeks before the event date at 8am.\n\nPlease contact us to cancel your RSVP if you cannot make it; we will open your spot to others who can attend.\n\n\n\n\n\nOur facility has limited parking\, please consider carpooling or biking. No dogs please. If inclement weather\, LTWC will hold the event inside.
URL:https://ltwc.org/event/kids-fun-friday-fur-feathers-scat/
LOCATION:Lake Tahoe Wildlife Care\, 1551 Al Tahoe Blvd\, South Lake Tahoe\, CA\, 96150\, United States
ORGANIZER;CN="LTWC":MAILTO:info@ltwc.org
END:VEVENT
END:VCALENDAR