



BEGIN:VCALENDAR
VERSION:2.0
PRODID:-//Lake Tahoe Wildlife Care, Inc. - ECPv6.15.14//NONSGML v1.0//EN
CALSCALE:GREGORIAN
METHOD:PUBLISH
X-ORIGINAL-URL:https://ltwc.org
X-WR-CALDESC:Events for Lake Tahoe Wildlife Care, Inc.
REFRESH-INTERVAL;VALUE=DURATION:PT1H
X-Robots-Tag:noindex
X-PUBLISHED-TTL:PT1H
BEGIN:VTIMEZONE
TZID:America/Los_Angeles
BEGIN:DAYLIGHT
TZOFFSETFROM:-0800
TZOFFSETTO:-0700
TZNAME:PDT
DTSTART:20220313T100000
END:DAYLIGHT
BEGIN:STANDARD
TZOFFSETFROM:-0700
TZOFFSETTO:-0800
TZNAME:PST
DTSTART:20221106T090000
END:STANDARD
BEGIN:DAYLIGHT
TZOFFSETFROM:-0800
TZOFFSETTO:-0700
TZNAME:PDT
DTSTART:20230312T100000
END:DAYLIGHT
BEGIN:STANDARD
TZOFFSETFROM:-0700
TZOFFSETTO:-0800
TZNAME:PST
DTSTART:20231105T090000
END:STANDARD
BEGIN:DAYLIGHT
TZOFFSETFROM:-0800
TZOFFSETTO:-0700
TZNAME:PDT
DTSTART:20240310T100000
END:DAYLIGHT
BEGIN:STANDARD
TZOFFSETFROM:-0700
TZOFFSETTO:-0800
TZNAME:PST
DTSTART:20241103T090000
END:STANDARD
END:VTIMEZONE
BEGIN:VEVENT
DTSTART;TZID=America/Los_Angeles:20230802T180000
DTEND;TZID=America/Los_Angeles:20230802T190000
DTSTAMP:20260423T072448
CREATED:20230522T213226Z
LAST-MODIFIED:20230531T194200Z
UID:16048-1690999200-1691002800@ltwc.org
SUMMARY:Wildlife Wednesdays - Porcupines
DESCRIPTION:Denise Upton\, LTWC Wildlife Education Coordinator\, will host a 1-hour presentation and Q&A about porcupines. Plus\, LTWC ambassador animal\, Porky\, a North American Porcupine will make a guest appearance. \nThis all-ages event is free\, and donations are appreciated (click here to make a donation; suggested $10 for an individual or $25 for a family). \nSeating is limited – please register below to reserve your seat (RSVPs open two weeks before the event date). We ask that you do not reserve more than 6 seats per group. \nOur facility has limited parking\, please consider carpooling or biking. No dogs please.
URL:https://ltwc.org/event/wildlife-wednesdays-porcupines-2-2/
LOCATION:Lake Tahoe Wildlife Care\, 1551 Al Tahoe Blvd\, South Lake Tahoe\, CA\, 96150\, United States
ORGANIZER;CN="LTWC":MAILTO:info@ltwc.org
END:VEVENT
BEGIN:VEVENT
DTSTART;TZID=America/Los_Angeles:20230809T180000
DTEND;TZID=America/Los_Angeles:20230809T190000
DTSTAMP:20260423T072448
CREATED:20230522T213501Z
LAST-MODIFIED:20230605T191001Z
UID:16050-1691604000-1691607600@ltwc.org
SUMMARY:Wildlife Wednesdays - Bats
DESCRIPTION:Join guest speaker\, Corky Quirk with NorCal Bats\, for a 1-hour presentation and Q&A about bats. \nThis all-ages event is free\, and donations are appreciated (click here to make a donation; suggested $10 for an individual or $25 for a family). \nSeating is limited – please register below to reserve your seat (RSVPs open two weeks before the event date). We ask that you do not reserve more than 6 seats per group. \nOur facility has limited parking\, please consider carpooling or biking. No dogs please. If Inclement weather\, LTWC will hold the event inside.
URL:https://ltwc.org/event/wildlife-wednesdays-bats/
LOCATION:Lake Tahoe Wildlife Care\, 1551 Al Tahoe Blvd\, South Lake Tahoe\, CA\, 96150\, United States
ORGANIZER;CN="LTWC":MAILTO:info@ltwc.org
END:VEVENT
BEGIN:VEVENT
DTSTART;TZID=America/Los_Angeles:20230816T180000
DTEND;TZID=America/Los_Angeles:20230816T190000
DTSTAMP:20260423T072448
CREATED:20230522T213710Z
LAST-MODIFIED:20230807T225514Z
UID:16052-1692208800-1692212400@ltwc.org
SUMMARY:Wildlife Wednesdays - Tahoe Basin Wildlife Connectivity Study
DESCRIPTION:The California Tahoe Conservancy will host a 1-hour presentation and Q&A about the Tahoe Basin Wildlife Connectivity Study conducted by Wildlands Network and Pathways for Wildlife\, highlighting wildlife underpass and overpass projects in California and potential solutions for Tahoe to help its wildlife move safely throughout the basin. \n(Note\, this presentation replaces the previously planned presentation about raccoons.) \n\nThis all-ages event is free\, and donations are appreciated (click here to make a donation; suggested $10 for an individual or $25 for a family). \nSeating is limited – please register below to reserve your seat (RSVPs open two weeks before the event date). We ask that you do not reserve more than 6 seats per group. \nOur facility has limited parking\, please consider carpooling or biking. No dogs please. If Inclement weather\, LTWC will hold the event inside.
URL:https://ltwc.org/event/wildlife-wednesdays-connectivity/
LOCATION:Lake Tahoe Wildlife Care\, 1551 Al Tahoe Blvd\, South Lake Tahoe\, CA\, 96150\, United States
ORGANIZER;CN="LTWC":MAILTO:info@ltwc.org
END:VEVENT
BEGIN:VEVENT
DTSTART;TZID=America/Los_Angeles:20230823T180000
DTEND;TZID=America/Los_Angeles:20230823T190000
DTSTAMP:20260423T072448
CREATED:20230522T213851Z
LAST-MODIFIED:20230605T191327Z
UID:16054-1692813600-1692817200@ltwc.org
SUMMARY:Wildlife Wednesdays - Raptors
DESCRIPTION:Eliza Cameron\, LTWC Wildlife Rehabilitation Manager\, will host a 1-hour presentation and Q&A about raptors. \nThis all-ages event is free\, and donations are appreciated (click here to make a donation; suggested $10 for an individual or $25 for a family). \nSeating is limited – please register below to reserve your seat (RSVPs open two weeks before the event date). We ask that you do not reserve more than 6 seats per group. \nOur facility has limited parking\, please consider carpooling or biking. No dogs please. If Inclement weather\, LTWC will hold the event inside.
URL:https://ltwc.org/event/wildlife-wednesdays-raptors/
LOCATION:Lake Tahoe Wildlife Care\, 1551 Al Tahoe Blvd\, South Lake Tahoe\, CA\, 96150\, United States
ORGANIZER;CN="LTWC":MAILTO:info@ltwc.org
END:VEVENT
BEGIN:VEVENT
DTSTART;TZID=America/Los_Angeles:20230830T180000
DTEND;TZID=America/Los_Angeles:20230830T190000
DTSTAMP:20260423T072448
CREATED:20230522T214031Z
LAST-MODIFIED:20230605T191410Z
UID:16056-1693418400-1693422000@ltwc.org
SUMMARY:Wildlife Wednesdays - Season in Review
DESCRIPTION:Join us for a 1-hour presentation and Q&A about the 2023 season in review. \nThis all-ages event is free\, and donations are appreciated (click here to make a donation; suggested $10 for an individual or $25 for a family). \nSeating is limited – please register below to reserve your seat (RSVPs open two weeks before the event date). We ask that you do not reserve more than 6 seats per group. \nOur facility has limited parking\, please consider carpooling or biking. No dogs please. If Inclement weather\, LTWC will hold the event inside.
URL:https://ltwc.org/event/wildlife-wednesdays-season-review/
LOCATION:Lake Tahoe Wildlife Care\, 1551 Al Tahoe Blvd\, South Lake Tahoe\, CA\, 96150\, United States
ORGANIZER;CN="LTWC":MAILTO:info@ltwc.org
END:VEVENT
END:VCALENDAR