



BEGIN:VCALENDAR
VERSION:2.0
PRODID:-//Lake Tahoe Wildlife Care, Inc. - ECPv6.15.14//NONSGML v1.0//EN
CALSCALE:GREGORIAN
METHOD:PUBLISH
X-ORIGINAL-URL:https://ltwc.org
X-WR-CALDESC:Events for Lake Tahoe Wildlife Care, Inc.
REFRESH-INTERVAL;VALUE=DURATION:PT1H
X-Robots-Tag:noindex
X-PUBLISHED-TTL:PT1H
BEGIN:VTIMEZONE
TZID:America/Los_Angeles
BEGIN:DAYLIGHT
TZOFFSETFROM:-0800
TZOFFSETTO:-0700
TZNAME:PDT
DTSTART:20230312T100000
END:DAYLIGHT
BEGIN:STANDARD
TZOFFSETFROM:-0700
TZOFFSETTO:-0800
TZNAME:PST
DTSTART:20231105T090000
END:STANDARD
BEGIN:DAYLIGHT
TZOFFSETFROM:-0800
TZOFFSETTO:-0700
TZNAME:PDT
DTSTART:20240310T100000
END:DAYLIGHT
BEGIN:STANDARD
TZOFFSETFROM:-0700
TZOFFSETTO:-0800
TZNAME:PST
DTSTART:20241103T090000
END:STANDARD
BEGIN:DAYLIGHT
TZOFFSETFROM:-0800
TZOFFSETTO:-0700
TZNAME:PDT
DTSTART:20250309T100000
END:DAYLIGHT
BEGIN:STANDARD
TZOFFSETFROM:-0700
TZOFFSETTO:-0800
TZNAME:PST
DTSTART:20251102T090000
END:STANDARD
END:VTIMEZONE
BEGIN:VEVENT
DTSTART;TZID=America/Los_Angeles:20240804T140000
DTEND;TZID=America/Los_Angeles:20240804T150000
DTSTAMP:20260423T135111
CREATED:20240711T162034Z
LAST-MODIFIED:20240717T160132Z
UID:19108-1722780000-1722783600@ltwc.org
SUMMARY:Wild Wonders Learning Series - Wildlife Rehab 101: From Rescue to Release
DESCRIPTION:Join us for a one-hour presentation and Q&A with Catherine Mendez\, LTWC’s Executive Director\, to learn about Wildlife Rehab 101: From Rescue to Release. \nThis all-ages event is free\, but donations are appreciated (click here to make a donation; the suggested amount is $10 for an individual or $25 for a family). \nSeating is limited\, and standing may be required during the presentation. Our facility has limited parking; please consider carpooling or biking. No dogs\, please. If there is Inclement weather\, LTWC will hold the event inside.
URL:https://ltwc.org/event/wild-wonders-learning-series-wildlife-rehab/
LOCATION:Lake Tahoe Wildlife Care\, 1551 Al Tahoe Blvd\, South Lake Tahoe\, CA\, 96150\, United States
ORGANIZER;CN="LTWC":MAILTO:info@ltwc.org
END:VEVENT
BEGIN:VEVENT
DTSTART;TZID=America/Los_Angeles:20240814T180000
DTEND;TZID=America/Los_Angeles:20240814T190000
DTSTAMP:20260423T135111
CREATED:20240711T164842Z
LAST-MODIFIED:20240717T160001Z
UID:19110-1723658400-1723662000@ltwc.org
SUMMARY:Wild Wonders Learning Series - Pinyon Jays
DESCRIPTION:Join us for a one-hour presentation and Q&A with Ned Bohman from the Great Basin Bird Observatory to learn about Pinyon Jays. \nThis all-ages event is free\, but donations are appreciated (click here to make a donation; the suggested amount is $10 for an individual or $25 for a family). \nSeating is limited\, and standing may be required during the presentation. Our facility has limited parking; please consider carpooling or biking. No dogs\, please. If there is Inclement weather\, LTWC will hold the event inside.
URL:https://ltwc.org/event/wild-wonders-learning-series-pinyon-jays/
LOCATION:Lake Tahoe Wildlife Care\, 1551 Al Tahoe Blvd\, South Lake Tahoe\, CA\, 96150\, United States
ORGANIZER;CN="LTWC":MAILTO:info@ltwc.org
END:VEVENT
BEGIN:VEVENT
DTSTART;TZID=America/Los_Angeles:20240818T140000
DTEND;TZID=America/Los_Angeles:20240818T150000
DTSTAMP:20260423T135111
CREATED:20240711T170022Z
LAST-MODIFIED:20240717T155818Z
UID:19111-1723989600-1723993200@ltwc.org
SUMMARY:Wild Wonders Learning Series - World of Hawks and Eagles
DESCRIPTION:Join us for a one-hour presentation and Q&A with Kit Ellsworth\, LTWC’s Wildlife Education and Ambassador Curator\, to learn about the World of Hawks and Eagles. \nThis all-ages event is free\, but donations are appreciated (click here to make a donation; the suggested amount is $10 for an individual or $25 for a family). \nSeating is limited\, and standing may be required during the presentation. Our facility has limited parking; please consider carpooling or biking. No dogs\, please. If there is Inclement weather\, LTWC will hold the event inside.
URL:https://ltwc.org/event/wild-wonders-learning-series-world-of-hawks-and-eagles/
LOCATION:Lake Tahoe Wildlife Care\, 1551 Al Tahoe Blvd\, South Lake Tahoe\, CA\, 96150\, United States
ORGANIZER;CN="LTWC":MAILTO:info@ltwc.org
END:VEVENT
BEGIN:VEVENT
DTSTART;TZID=America/Los_Angeles:20240828T180000
DTEND;TZID=America/Los_Angeles:20240828T190000
DTSTAMP:20260423T135111
CREATED:20240711T170755Z
LAST-MODIFIED:20240717T155651Z
UID:19113-1724868000-1724871600@ltwc.org
SUMMARY:Wild Wonders Learning Series - Sierra Nevada Rabbit Project
DESCRIPTION:Join us for a one-hour presentation and Q&A with Will Richardson from the Tahoe Institute of Natural Science to learn about the Sierra Nevada Rabbit Project. \nThis all-ages event is free\, but donations are appreciated (click here to make a donation; the suggested amount is $10 for an individual or $25 for a family). \nSeating is limited\, and standing may be required during the presentation. Our facility has limited parking; please consider carpooling or biking. No dogs\, please. If there is Inclement weather\, LTWC will hold the event inside.
URL:https://ltwc.org/event/wild-wonders-learning-series-sierra-nevada-rabbit-project/
LOCATION:Lake Tahoe Wildlife Care\, 1551 Al Tahoe Blvd\, South Lake Tahoe\, CA\, 96150\, United States
ORGANIZER;CN="LTWC":MAILTO:info@ltwc.org
END:VEVENT
END:VCALENDAR