



BEGIN:VCALENDAR
VERSION:2.0
PRODID:-//Lake Tahoe Wildlife Care, Inc. - ECPv6.15.14//NONSGML v1.0//EN
CALSCALE:GREGORIAN
METHOD:PUBLISH
X-WR-CALNAME:Lake Tahoe Wildlife Care, Inc.
X-ORIGINAL-URL:https://ltwc.org
X-WR-CALDESC:Events for Lake Tahoe Wildlife Care, Inc.
REFRESH-INTERVAL;VALUE=DURATION:PT1H
X-Robots-Tag:noindex
X-PUBLISHED-TTL:PT1H
BEGIN:VTIMEZONE
TZID:America/Los_Angeles
BEGIN:DAYLIGHT
TZOFFSETFROM:-0800
TZOFFSETTO:-0700
TZNAME:PDT
DTSTART:20240310T100000
END:DAYLIGHT
BEGIN:STANDARD
TZOFFSETFROM:-0700
TZOFFSETTO:-0800
TZNAME:PST
DTSTART:20241103T090000
END:STANDARD
BEGIN:DAYLIGHT
TZOFFSETFROM:-0800
TZOFFSETTO:-0700
TZNAME:PDT
DTSTART:20250309T100000
END:DAYLIGHT
BEGIN:STANDARD
TZOFFSETFROM:-0700
TZOFFSETTO:-0800
TZNAME:PST
DTSTART:20251102T090000
END:STANDARD
BEGIN:DAYLIGHT
TZOFFSETFROM:-0800
TZOFFSETTO:-0700
TZNAME:PDT
DTSTART:20260308T100000
END:DAYLIGHT
BEGIN:STANDARD
TZOFFSETFROM:-0700
TZOFFSETTO:-0800
TZNAME:PST
DTSTART:20261101T090000
END:STANDARD
END:VTIMEZONE
BEGIN:VEVENT
DTSTART;TZID=America/Los_Angeles:20250412T100000
DTEND;TZID=America/Los_Angeles:20250412T140000
DTSTAMP:20260423T212423
CREATED:20250409T154413Z
LAST-MODIFIED:20250409T154930Z
UID:20560-1744452000-1744466400@ltwc.org
SUMMARY:Born To Be Wild Baby Shower
DESCRIPTION:You’re invited to our Born to Be Wild Baby Shower! This family-friendly event welcomes all ages and is free to the public\, but we encourage participants to bring much-needed donations. \nJoin us for special educational presentations and insights from our rehabilitation staff. \n\n\n\n\n\nDate: Saturday\, April 12th\, 2025\nTime: Feel free to drop by anytime between 10:00 AM – 2:00 PM\nLocation: Lake Tahoe Wildlife Care\, 1551 Al Tahoe Blvd.\, South Lake Tahoe\, CA 96150\n\n\n\n\n\n\nLearn more about the Born to Be Wild Baby Shower
URL:https://ltwc.org/event/born-to-be-wild-baby-shower/
LOCATION:Lake Tahoe Wildlife Care\, 1551 Al Tahoe Blvd\, South Lake Tahoe\, CA\, 96150\, United States
END:VEVENT
END:VCALENDAR