



BEGIN:VCALENDAR
VERSION:2.0
PRODID:-//Lake Tahoe Wildlife Care, Inc. - ECPv6.15.14//NONSGML v1.0//EN
CALSCALE:GREGORIAN
METHOD:PUBLISH
X-WR-CALNAME:Lake Tahoe Wildlife Care, Inc.
X-ORIGINAL-URL:https://ltwc.org
X-WR-CALDESC:Events for Lake Tahoe Wildlife Care, Inc.
REFRESH-INTERVAL;VALUE=DURATION:PT1H
X-Robots-Tag:noindex
X-PUBLISHED-TTL:PT1H
BEGIN:VTIMEZONE
TZID:America/Los_Angeles
BEGIN:DAYLIGHT
TZOFFSETFROM:-0800
TZOFFSETTO:-0700
TZNAME:PDT
DTSTART:20140309T100000
END:DAYLIGHT
BEGIN:STANDARD
TZOFFSETFROM:-0700
TZOFFSETTO:-0800
TZNAME:PST
DTSTART:20141102T090000
END:STANDARD
BEGIN:DAYLIGHT
TZOFFSETFROM:-0800
TZOFFSETTO:-0700
TZNAME:PDT
DTSTART:20150308T100000
END:DAYLIGHT
BEGIN:STANDARD
TZOFFSETFROM:-0700
TZOFFSETTO:-0800
TZNAME:PST
DTSTART:20151101T090000
END:STANDARD
BEGIN:DAYLIGHT
TZOFFSETFROM:-0800
TZOFFSETTO:-0700
TZNAME:PDT
DTSTART:20160313T100000
END:DAYLIGHT
BEGIN:STANDARD
TZOFFSETFROM:-0700
TZOFFSETTO:-0800
TZNAME:PST
DTSTART:20161106T090000
END:STANDARD
END:VTIMEZONE
BEGIN:VEVENT
DTSTART;TZID=America/Los_Angeles:20150715T190000
DTEND;TZID=America/Los_Angeles:20150715T203000
DTSTAMP:20260419T090921
CREATED:20150610T231424Z
LAST-MODIFIED:20150610T231424Z
UID:1741-1436986800-1436992200@ltwc.org
SUMMARY:LTWC Board Meeting
DESCRIPTION:LTWC board meetings are open to the public. Please call (530) 577-2273 before attending to ensure that the meeting has not been rescheduled.
URL:https://ltwc.org/event/ltwc-board-meeting/
LOCATION:Lake Tahoe Wildlife Care\, 1551 Al Tahoe Blvd\, South Lake Tahoe\, CA\, 96150\, United States
ORGANIZER;CN="LTWC":MAILTO:info@ltwc.org
END:VEVENT
END:VCALENDAR